BEGIN:VCALENDAR
VERSION:2.0
PRODID:-//dhtmlXScheduler//NONSGML v2.2//EN
X-WR-CALNAME:Wydarzenia
BEGIN:VEVENT
DTSTART:20250530T000000
DTEND:20260422T141050
UID:1
SUMMARY:XIII Międzynarodowa Konferencja Naukowa "Współczesne Problemy Rozwoju Gospodarczego – Wyzwania gospodarki cyfrowej
END:VEVENT
END:VCALENDAR